BEGIN:VCALENDAR
VERSION:2.0
PRODID:-//eventon.com NONSGML v1.0//EN
CALSCALE:GREGORIAN
METHOD:PUBLISH
BEGIN:VEVENT
UID:69e828d19fa0e
DTSTAMP:20260422T024801
DTSTART:20261121T194500Z
DTEND:20261121T210000Z
TZID:Europe/London
LOCATION:
SUMMARY:PORTSMOUTH - THE SQUARE TOWER
DESCRIPTION:PORTSMOUTH - THE SQUARE TOWER\nhttps://www.megsonmusic.co.uk/events/portsmouth-the-square-tower-2/
URL:https://www.megsonmusic.co.uk/events/portsmouth-the-square-tower-2/
END:VEVENT
END:VCALENDAR