BEGIN:VCALENDAR
VERSION:2.0
PRODID:-//eventon.com NONSGML v1.0//EN
CALSCALE:GREGORIAN
METHOD:PUBLISH
BEGIN:VEVENT
UID:69e8281a9792d
DTSTAMP:20260422T024458
DTSTART:20261001T193000Z
DTEND:20261001T210000Z
TZID:Europe/London
LOCATION:
SUMMARY:COLCHESTER - ARTS CENTRE
DESCRIPTION:COLCHESTER - ARTS CENTRE\nhttps://www.megsonmusic.co.uk/events/colchester-arts-centre/
URL:https://www.megsonmusic.co.uk/events/colchester-arts-centre/
END:VEVENT
END:VCALENDAR